BEGIN:VCALENDAR
VERSION:2.0
PRODID:gruene-northeim-einbeck.de
METHOD:PUBLISH
BEGIN:VTIMEZONE
TZID:Europe/Berlin
X-LIC-LOCATION:Europe/Berlin
BEGIN:DAYLIGHT
TZOFFSETFROM:+0100
TZOFFSETTO:+0200
TZNAME:CEST
DTSTART:19700329T020000
RRULE:FREQ=YEARLY;INTERVAL=1;BYDAY=-1SU;BYMONTH=3
END:DAYLIGHT
BEGIN:STANDARD
TZOFFSETFROM:+0200
TZOFFSETTO:+0100
TZNAME:CET
DTSTART:19701025T030000
RRULE:FREQ=YEARLY;INTERVAL=1;BYDAY=-1SU;BYMONTH=10
END:STANDARD
END:VTIMEZONE
BEGIN:VEVENT
UID:2899459e5aee718b6116c9b9f1301aa2@gruene-northeim-einbeck.de
URL;VALUE=URI:https://gruene-northeim-einbeck.de/termine/arbeitstreffen-d
 er-ag-oeffentlichkeitsarbeit/
LOCATION:
SUMMARY:Arbeitstreffen der AG Öffentlichkeitsarbeit
DESCRIPTION;ALTREP="data:text/html,%0A%3Cp%3ELiebe%20Mitglieder%20der%20V
 orst%C3%A4nde%2C%20liebe%20Mandatstr%C3%A4ger%3Ainnen%20in%20Stadtr%C3%A4
 ten%20und%20Kreistag%2C%3C%2Fp%3E%0A%0A%0A%0A%3Cp%3Edie%20Arbeitsgruppe%2
 0%C3%96ffentlichkeitsarbeit%20des%20Kreisverbands%20h%C3%A4lt%20am%2013.%
 20August%202025%20um%2019%3A00%20Uhr%20ein%20Arbeitstreffen%20per%20Zoom%
 20ab%2C%20um%20die%20Gestaltung%20der%20Website%20inklusive%20Terminverwa
 ltung%20zu%20besprechen.%3C%2Fp%3E%0A%0A%0A%0A%3Cp%3ESolltet%20ihr%20an%2
 0einer%20Teilnahme%20interessiert%20sein%2C%20bitten%20wir%20um%20eine%20
 kurze%20R%C3%BCckmeldung%20per%20E-Mail%2C%20sofern%20ihr%20eure%20Teilna
 hme%20nicht%20bereits%20in%20der%20Signalgruppe%20mitgeteilt%20habt.%3C%2
 Fp%3E%0A%0A%0A%0A%3Cp%3EMit%20herzlichen%20Gr%C3%BC%C3%9Fen%3C%2Fp%3E%0A%
 0A%0A%0A%3Cp%3ETill%20K%C3%B6hler%3Cbr%3EVorsitzender%3C%2Fp%3E%0A%0A%0A%
 0A%3Cp%3EB%C3%9CNDNIS%2090%2FDIE%20GR%C3%9CNEN%3Cbr%3EKreisverband%20Nort
 heim-Einbeck%3Cbr%3EAm%20M%C3%BCnster%2027%2C%2037154%20Northeim%3C%2Fp%3
 E%0A%0A%0A%0A%3Cp%3ETelefon%3A%20%2B49%205551%20997807-2%3Cbr%3EE-Mail%3A
 %26nbsp%3B%3Ca%20href%3D%22mailto%3Akoehler%40gruene-northeim-einbeck.de%
 22%3Ekoehler%40gruene-northeim-einbeck.de%3C%2Fa%3E%3Cbr%3EWebsite%3A%26n
 bsp%3B%3Ca%20href%3D%22http%3A%2F%2Fwww.gruene-northeim-einbeck.de%2F%22%
 3Ewww.gruene-northeim-einbeck.de%3C%2Fa%3E-%3C%2Fp%3E%0A":Liebe Mitgliede
 r der Vorstände\, liebe Mandatsträger:innen in Stadträten und Kreistag
 \,\n\ndie Arbeitsgruppe Öffentlichkeitsarbeit des Kreisverbands hält am
  13. August 2025 um 19:00 Uhr ein Arbeitstreffen per Zoom ab\, um die Ges
 taltung der Website inklusive Terminverwaltung zu besprechen.\n\nSolltet 
 ihr an einer Teilnahme interessiert sein\, bitten wir um eine kurze Rück
 meldung per E-Mail\, sofern ihr eure Teilnahme nicht bereits in der Signa
 lgruppe mitgeteilt habt.\n\nMit herzlichen Grüßen\n\nTill KöhlerVorsit
 zender\n\nBÜNDNIS 90/DIE GRÜNENKreisverband Northeim-EinbeckAm Münster
  27\, 37154 Northeim\n\nTelefon: +49 5551 997807-2E-Mail: koehler@gruene
 -northeim-einbeck.deWebsite: www.gruene-northeim-einbeck.de-
CLASS:PUBLIC
DTSTART;TZID=Europe/Berlin:20250813T190000
DTEND;TZID=Europe/Berlin:20250813T203000
DTSTAMP:20260422T093521
END:VEVENT
END:VCALENDAR