BEGIN:VCALENDAR
VERSION:2.0
PRODID:gruene-northeim-einbeck.de
METHOD:PUBLISH
BEGIN:VTIMEZONE
TZID:Europe/Berlin
X-LIC-LOCATION:Europe/Berlin
BEGIN:DAYLIGHT
TZOFFSETFROM:+0100
TZOFFSETTO:+0200
TZNAME:CEST
DTSTART:19700329T020000
RRULE:FREQ=YEARLY;INTERVAL=1;BYDAY=-1SU;BYMONTH=3
END:DAYLIGHT
BEGIN:STANDARD
TZOFFSETFROM:+0200
TZOFFSETTO:+0100
TZNAME:CET
DTSTART:19701025T030000
RRULE:FREQ=YEARLY;INTERVAL=1;BYDAY=-1SU;BYMONTH=10
END:STANDARD
END:VTIMEZONE
BEGIN:VEVENT
UID:eacec4166d5779bdb8d7f134aaa22fc3@gruene-northeim-einbeck.de
URL;VALUE=URI:https://gruene-northeim-einbeck.de/termine/familienbrunch-m
 it-karo-otte-und-lisa-paus/
LOCATION:
SUMMARY:Familienbrunch mit Karo Otte und Lisa Paus
DESCRIPTION;ALTREP="data:text/html,%0A%3Cp%3EAm%2004.02.%20von%2010%3A00%
 20bis%2012%3A00%20Uhr%20veranstalten%20wir%20in%20der%C2%A0Kreisgesch%C3%
 A4ftsstelle%20Northeim%C2%A0ein%20Familienfr%C3%BChst%C3%BCck%20mit%20Bun
 desministerin%20Lisa%20Paus.%20Kommt%20vorbei%20und%20setzt%20euch%20zu%2
 0uns%20an%20den%20gro%C3%9Fen%20K%C3%BCchentisch%20%E2%80%93%20bringt%20g
 erne%20eure%20Gro%C3%9Feltern%2C%20Kinder%20und%20Enkel%20mit%21%20Wir%20
 wollen%20einen%20Raum%20schaffen%20f%C3%BCr%20gute%20Gespr%C3%A4chsm%C3%B
 6glichkeiten%20f%C3%BCr%20alle%2C%20die%20sich%20f%C3%BCr%20Themen%20inte
 ressieren%2C%20die%20uns%20und%20unsere%20Familien%20besch%C3%A4ftigen.%C
 2%A0%3C%2Fp%3E%0A%0A%0A%0A%3Cp%3EDas%20Datum%20ist%20entsprechend%20sch%C
 3%BCler%3Ainnenfreundlich%20gew%C3%A4hlt%20-%20und%20daher%20findet%20das
 %20Fr%C3%BChst%C3%BCck%20w%C3%A4hrend%20der%20Zeugnisferien%20statt.%20Al
 le%2C%20die%20auch%20noch%20Hunger%20mitbringen%2C%20d%C3%BCrfen%20sich%2
 0auf%20das%20bereitgestellte%20Essen%20freuen.%20Zur%20besseren%20Planung
 %20bitten%20wir%20um%20Anmeldung%20%28samt%20Familie%29%20per%20E-Mail%20
 unter%20info%40karolineotte.net%C2%A0%3C%2Fp%3E%0A":Am 04.02. von 10:00 b
 is 12:00 Uhr veranstalten wir in der Kreisgeschäftsstelle Northeim ein
  Familienfrühstück mit Bundesministerin Lisa Paus. Kommt vorbei und set
 zt euch zu uns an den großen Küchentisch – bringt gerne eure Großelt
 ern\, Kinder und Enkel mit! Wir wollen einen Raum schaffen für gute Gesp
 rächsmöglichkeiten für alle\, die sich für Themen interessieren\, die
  uns und unsere Familien beschäftigen. \n\nDas Datum ist entsprechend s
 chüler:innenfreundlich gewählt - und daher findet das Frühstück währ
 end der Zeugnisferien statt. Alle\, die auch noch Hunger mitbringen\, dü
 rfen sich auf das bereitgestellte Essen freuen. Zur besseren Planung bitt
 en wir um Anmeldung (samt Familie) per E-Mail unter info@karolineotte.net
  
CLASS:PUBLIC
DTSTART;TZID=Europe/Berlin:20250204
DTEND;TZID=Europe/Berlin:20250205
DTSTAMP:20260422T095151
END:VEVENT
END:VCALENDAR