BEGIN:VCALENDAR
VERSION:2.0
PRODID:gruene-northeim-einbeck.de
METHOD:PUBLISH
BEGIN:VTIMEZONE
TZID:Europe/Berlin
X-LIC-LOCATION:Europe/Berlin
BEGIN:DAYLIGHT
TZOFFSETFROM:+0100
TZOFFSETTO:+0200
TZNAME:CEST
DTSTART:19700329T020000
RRULE:FREQ=YEARLY;INTERVAL=1;BYDAY=-1SU;BYMONTH=3
END:DAYLIGHT
BEGIN:STANDARD
TZOFFSETFROM:+0200
TZOFFSETTO:+0100
TZNAME:CET
DTSTART:19701025T030000
RRULE:FREQ=YEARLY;INTERVAL=1;BYDAY=-1SU;BYMONTH=10
END:STANDARD
END:VTIMEZONE
BEGIN:VEVENT
UID:c68e62023f14c8aacf2f4c38d38b3cba@gruene-northeim-einbeck.de
URL;VALUE=URI:https://gruene-northeim-einbeck.de/termine/klausur-des-vors
 tands-der-gruenen-northeim-einbeck/
LOCATION:
SUMMARY:Klausur des Vorstands der GRÜNEN Northeim-Einbeck
DESCRIPTION;ALTREP="data:text/html,%0A%3Cp%3EDer%20Kreisvorstand%20der%20
 GR%C3%9CNEN%20Northeim-Einbeck%20kommt%20am%2009.%20Mai%202025%20von%2015
 %3A30%20bis%2020%3A30%20Uhr%20zu%20einer%20nicht-%C3%B6ffentlichen%20Klau
 surtagung%20zusammen.%20Thematisch%20werden%20wir%20uns%20unter%20anderem
 %20mit%20der%20Evaluation%20des%20vergangenen%20Bundestagswahlkampfs%20so
 wie%20einem%20Ausblick%20auf%20die%20bevorstehende%20Kommunalwahl%20im%20
 n%C3%A4chsten%20Jahr%20auseinandersetzen.%20Wir%20bitten%2C%20von%20Anfra
 gen%20zur%20Teilnahme%20abzusehen.%3C%2Fp%3E%0A":Der Kreisvorstand der GR
 ÜNEN Northeim-Einbeck kommt am 09. Mai 2025 von 15:30 bis 20:30 Uhr zu e
 iner nicht-öffentlichen Klausurtagung zusammen. Thematisch werden wir un
 s unter anderem mit der Evaluation des vergangenen Bundestagswahlkampfs s
 owie einem Ausblick auf die bevorstehende Kommunalwahl im nächsten Jahr 
 auseinandersetzen. Wir bitten\, von Anfragen zur Teilnahme abzusehen.
CLASS:PUBLIC
DTSTART;TZID=Europe/Berlin:20250509T153000
DTEND;TZID=Europe/Berlin:20250509T203000
DTSTAMP:20260422T093803
END:VEVENT
END:VCALENDAR