BEGIN:VCALENDAR
VERSION:2.0
PRODID:gruene-northeim-einbeck.de
METHOD:PUBLISH
BEGIN:VTIMEZONE
TZID:Europe/Berlin
X-LIC-LOCATION:Europe/Berlin
BEGIN:DAYLIGHT
TZOFFSETFROM:+0100
TZOFFSETTO:+0200
TZNAME:CEST
DTSTART:19700329T020000
RRULE:FREQ=YEARLY;INTERVAL=1;BYDAY=-1SU;BYMONTH=3
END:DAYLIGHT
BEGIN:STANDARD
TZOFFSETFROM:+0200
TZOFFSETTO:+0100
TZNAME:CET
DTSTART:19701025T030000
RRULE:FREQ=YEARLY;INTERVAL=1;BYDAY=-1SU;BYMONTH=10
END:STANDARD
END:VTIMEZONE
BEGIN:VEVENT
UID:bb2e2b034e4076e8c4764bc67d53a705@gruene-northeim-einbeck.de
URL;VALUE=URI:https://gruene-northeim-einbeck.de/termine/kreismitgliederv
 ersammlung/
LOCATION:
SUMMARY:Mitgliederversammlung der GRÜNEN Northeim-Einbeck
DESCRIPTION;ALTREP="data:text/html,%0A%3Cp%3EWeitere%20Infos%20folgen%20i
 n%20K%C3%BCrze.%3C%2Fp%3E%0A":Weitere Infos folgen in Kürze.
CLASS:PUBLIC
DTSTART;TZID=Europe/Berlin:20241130
DTEND;TZID=Europe/Berlin:20241201
DTSTAMP:20260422T093430
END:VEVENT
END:VCALENDAR