BEGIN:VCALENDAR
VERSION:2.0
PRODID:gruene-northeim-einbeck.de
METHOD:PUBLISH
BEGIN:VTIMEZONE
TZID:Europe/Berlin
X-LIC-LOCATION:Europe/Berlin
BEGIN:DAYLIGHT
TZOFFSETFROM:+0100
TZOFFSETTO:+0200
TZNAME:CEST
DTSTART:19700329T020000
RRULE:FREQ=YEARLY;INTERVAL=1;BYDAY=-1SU;BYMONTH=3
END:DAYLIGHT
BEGIN:STANDARD
TZOFFSETFROM:+0200
TZOFFSETTO:+0100
TZNAME:CET
DTSTART:19701025T030000
RRULE:FREQ=YEARLY;INTERVAL=1;BYDAY=-1SU;BYMONTH=10
END:STANDARD
END:VTIMEZONE
BEGIN:VEVENT
UID:faec13f8d5a42103f6af951578fb793d@gruene-northeim-einbeck.de
URL;VALUE=URI:https://gruene-northeim-einbeck.de/termine/sitzung-des-koor
 dinierungskreises-2/
LOCATION:Kreisgeschäftsstelle, Am Münster 27, 37154 Northeim
SUMMARY:Sitzung des Koordinierungskreises
DESCRIPTION;ALTREP="data:text/html,%0A%3Cp%3EDer%20Koordinierungskreis%20
 der%20Gr%C3%BCnen-Vorst%C3%A4nde%20im%20Landkreis%20Northeim%20kommt%20am
 %2024.%20September%202025%20von%2018%3A30%20bis%2020%3A00%20Uhr%20zu%20ei
 ner%20nicht-%C3%B6ffentlichen%20Sitzung%20zusammen%2C%20um%20unter%20ande
 rem%20%C3%BCber%20den%20bevorstehenden%20Kommunalwahlkampf%20zu%20beraten
 .%20Teilnehmen%20konnten%20Vorstandsmitglieder%20der%20Ortsverb%C3%A4nde%
 20sowie%20der%20Kreisvorstand%20und%20die%20Kreisgesch%C3%A4ftsf%C3%BChru
 ng.%20Eine%20vorl%C3%A4ufige%20Tagesordnung%20wird%20rechtzeitig%20versen
 det.%20Wir%20bitten%2C%20von%20Anfragen%20zur%20Teilnahme%20abzusehen.%3C
 %2Fp%3E%0A":Der Koordinierungskreis der Grünen-Vorstände im Landkreis N
 ortheim kommt am 24. September 2025 von 18:30 bis 20:00 Uhr zu einer nich
 t-öffentlichen Sitzung zusammen\, um unter anderem über den bevorstehen
 den Kommunalwahlkampf zu beraten. Teilnehmen konnten Vorstandsmitglieder 
 der Ortsverbände sowie der Kreisvorstand und die Kreisgeschäftsführung
 . Eine vorläufige Tagesordnung wird rechtzeitig versendet. Wir bitten\, 
 von Anfragen zur Teilnahme abzusehen.
CLASS:PUBLIC
DTSTART;TZID=Europe/Berlin:20250924T183000
DTEND;TZID=Europe/Berlin:20250924T200000
DTSTAMP:20260422T093803
END:VEVENT
END:VCALENDAR