BEGIN:VCALENDAR
VERSION:2.0
PRODID:gruene-northeim-einbeck.de
METHOD:PUBLISH
BEGIN:VTIMEZONE
TZID:Europe/Berlin
X-LIC-LOCATION:Europe/Berlin
BEGIN:DAYLIGHT
TZOFFSETFROM:+0100
TZOFFSETTO:+0200
TZNAME:CEST
DTSTART:19700329T020000
RRULE:FREQ=YEARLY;INTERVAL=1;BYDAY=-1SU;BYMONTH=3
END:DAYLIGHT
BEGIN:STANDARD
TZOFFSETFROM:+0200
TZOFFSETTO:+0100
TZNAME:CET
DTSTART:19701025T030000
RRULE:FREQ=YEARLY;INTERVAL=1;BYDAY=-1SU;BYMONTH=10
END:STANDARD
END:VTIMEZONE
BEGIN:VEVENT
UID:c89de4b5880745179b0263cc9905d3b1@gruene-northeim-einbeck.de
URL;VALUE=URI:https://gruene-northeim-einbeck.de/termine/sitzung-des-vors
 tands-der-gruenen-northeim-einbeck-5/
LOCATION:Kreisgeschäftsstelle, Am Münster 27, 37154 Northeim
SUMMARY:Sitzung des Vorstands der GRÜNEN Northeim-Einbeck
DESCRIPTION;ALTREP="data:text/html,%0A%3Cp%3EDer%20Kreisvorstand%20der%20
 GR%C3%9CNEN%20Northeim-Einbeck%20kommt%20jeden%20zweiten%20Montag%20im%20
 Monat%20von%2017%3A30%20bis%2019%3A00%20Uhr%20zu%20einer%20nicht-%C3%B6ff
 entlichen%20Sitzung%20in%20der%20Kreisgesch%C3%A4ftsstelle%20zusammen.%20
 Wir%20bitten%2C%20von%20Anfragen%20zur%20Teilnahme%20abzusehen.%3Cbr%3E%3
 C%2Fp%3E%0A":Der Kreisvorstand der GRÜNEN Northeim-Einbeck kommt jeden z
 weiten Montag im Monat von 17:30 bis 19:00 Uhr zu einer nicht-öffentlich
 en Sitzung in der Kreisgeschäftsstelle zusammen. Wir bitten\, von Anfrag
 en zur Teilnahme abzusehen.
CLASS:PUBLIC
DTSTART;TZID=Europe/Berlin:20251110T173000
DTEND;TZID=Europe/Berlin:20251110T190000
DTSTAMP:20260422T093758
END:VEVENT
END:VCALENDAR