BEGIN:VCALENDAR
VERSION:2.0
PRODID:gruene-northeim-einbeck.de
METHOD:PUBLISH
BEGIN:VTIMEZONE
TZID:Europe/Berlin
X-LIC-LOCATION:Europe/Berlin
BEGIN:DAYLIGHT
TZOFFSETFROM:+0100
TZOFFSETTO:+0200
TZNAME:CEST
DTSTART:19700329T020000
RRULE:FREQ=YEARLY;INTERVAL=1;BYDAY=-1SU;BYMONTH=3
END:DAYLIGHT
BEGIN:STANDARD
TZOFFSETFROM:+0200
TZOFFSETTO:+0100
TZNAME:CET
DTSTART:19701025T030000
RRULE:FREQ=YEARLY;INTERVAL=1;BYDAY=-1SU;BYMONTH=10
END:STANDARD
END:VTIMEZONE
BEGIN:VEVENT
UID:6dc8ec46156235c059f3dc1bdd1a140c@gruene-northeim-einbeck.de
URL;VALUE=URI:https://gruene-northeim-einbeck.de/termine/spaetsommerfest-
 friends-family-der-gruenen-hardegsen-noerten-hardenberg/
LOCATION:Dorfgemeinschaftshaus Hevensen-Wolbrechtshausen, Hevenser Straß
 e 1, 37181 Hardegsen
SUMMARY:Spätsommerfest »Friends & Family« der GRÜNEN Hardegsen/Nörte
 n-Hardenberg
DESCRIPTION;ALTREP="data:text/html,%0A%3Cp%3ELiebe%20Gr%C3%BCne%20im%20Kr
 eisverband%20Northeim-Einbeck%2C%3C%2Fp%3E%0A%0A%0A%0A%3Cp%3ESchon%20jetz
 t%20im%20Kalender%20notieren%20%E2%80%93%20safe%20the%20date%3A%3C%2Fp%3E
 %0A%0A%0A%0A%3Cp%3EDer%20Ortsverband%20Hardegsen%2FN%C3%B6rten-Hardenberg
 %20l%C3%A4dt%20euch%20alle%20ganz%3Cbr%3Eherzlich%20f%C3%BCr%20Sonntag%20
 den%207.9.%20ab%2010.30%20Uhr%20ins%20Dorfgemeinschaftshaus%3Cbr%3EHevens
 en-Wolbrechtshausen%20%28Hevenser%20Stra%C3%9Fe%201%2C%2037181%20Hardegse
 n%29%20ein.%3C%2Fp%3E%0A%0A%0A%0A%3Cp%3EGeplant%20ist%20ein%20Mitbring-Br
 unch%20unter%20dem%20Motto%20%E2%80%9EFriends%20%26amp%3B%20Family%E2%80%
 9C.%3C%2Fp%3E%0A%0A%0A%0A%3Cp%3EErw%C3%BCnscht%20ist%20ein%20essbarer%20B
 eitrag%20f%C3%BCr%20das%20bunte%3Cbr%3E%C3%9Cberraschungs-B%C3%BCffett.%2
 0F%C3%BCr%20hei%C3%9Fe%20und%20kalte%20Getr%C3%A4nke%20ist%20gesorgt.%3C%
 2Fp%3E%0A%0A%0A%0A%3Cp%3EBei%20gutem%20Wetter%20wird%20drau%C3%9Fen%20hin
 ter%20dem%20DGH%20gefeiert%2C%20bei%20Regen%3Cbr%3Edrinnen%20im%20Saal.%3
 C%2Fp%3E%0A%0A%0A%0A%3Cp%3ESchon%20jetzt%20vorfreudig%2C%20euch%20im%20Se
 ptember%20alle%20wiederzusehen%2C%3C%2Fp%3E%0A%0A%0A%0A%3Cp%3EEure%20Hard
 egser%20und%20N%C3%B6rtener%20Gr%C3%BCnen%3C%2Fp%3E%0A%0A%0A%0A%3Cp%3E%28
 Bei%20Fragen%3A%20Irmela%20Erckenbrecht%2C%C2%A0%3Ca%20href%3D%22mailto%3
 Aerckenbrecht%40aol.com%22%3Eerckenbrecht%40aol.com%3C%2Fa%3E%29%3C%2Fp%3
 E%0A%0A%0A%0A%3Cp%3E%3C%2Fp%3E%0A":Liebe Grüne im Kreisverband Northeim-
 Einbeck\,\n\nSchon jetzt im Kalender notieren – safe the date:\n\nDer O
 rtsverband Hardegsen/Nörten-Hardenberg lädt euch alle ganzherzlich für
  Sonntag den 7.9. ab 10.30 Uhr ins DorfgemeinschaftshausHevensen-Wolbrech
 tshausen (Hevenser Straße 1\, 37181 Hardegsen) ein.\n\nGeplant ist ein M
 itbring-Brunch unter dem Motto „Friends & Family“.\n\nErwünscht ist 
 ein essbarer Beitrag für das bunteÜberraschungs-Büffett. Für heiße u
 nd kalte Getränke ist gesorgt.\n\nBei gutem Wetter wird draußen hinter 
 dem DGH gefeiert\, bei Regendrinnen im Saal.\n\nSchon jetzt vorfreudig\, 
 euch im September alle wiederzusehen\,\n\nEure Hardegser und Nörtener Gr
 ünen\n\n(Bei Fragen: Irmela Erckenbrecht\, erckenbrecht@aol.com)
CLASS:PUBLIC
DTSTART;TZID=Europe/Berlin:20250907T103000
DTEND;TZID=Europe/Berlin:20250907T130000
DTSTAMP:20260422T095100
END:VEVENT
END:VCALENDAR