BEGIN:VCALENDAR
VERSION:2.0
PRODID:gruene-northeim-einbeck.de
METHOD:PUBLISH
BEGIN:VTIMEZONE
TZID:Europe/Berlin
X-LIC-LOCATION:Europe/Berlin
BEGIN:DAYLIGHT
TZOFFSETFROM:+0100
TZOFFSETTO:+0200
TZNAME:CEST
DTSTART:19700329T020000
RRULE:FREQ=YEARLY;INTERVAL=1;BYDAY=-1SU;BYMONTH=3
END:DAYLIGHT
BEGIN:STANDARD
TZOFFSETFROM:+0200
TZOFFSETTO:+0100
TZNAME:CET
DTSTART:19701025T030000
RRULE:FREQ=YEARLY;INTERVAL=1;BYDAY=-1SU;BYMONTH=10
END:STANDARD
END:VTIMEZONE
BEGIN:VEVENT
UID:ea7830a3825f685d824c7c1541c2355e@gruene-northeim-einbeck.de
URL;VALUE=URI:https://gruene-northeim-einbeck.de/termine/treffen-der-grue
 nen-northeim-10/
LOCATION:Kreisgeschäftsstelle, Am Münster 27, 37154 Northeim
SUMMARY:Treffen der GRÜNEN Northeim
DESCRIPTION;ALTREP="data:text/html,%0A%3Cp%3EWir%20laden%20herzlich%20zu%
 20unserem%20Treffen%20des%20Ortsverbands%20ein.%20Auch%20interessierte%20
 B%C3%BCrger%2Ainnen%20sind%20wie%20immer%20herzlich%20willkommen%20%E2%80
 %93%20kommt%20gerne%20vorbei%20und%20lernt%20uns%20kennen%21%3C%2Fp%3E%0A
 ":Wir laden herzlich zu unserem Treffen des Ortsverbands ein. Auch intere
 ssierte Bürger*innen sind wie immer herzlich willkommen – kommt gerne 
 vorbei und lernt uns kennen!
CLASS:PUBLIC
DTSTART;TZID=Europe/Berlin:20250922T180000
DTEND;TZID=Europe/Berlin:20250922T200000
DTSTAMP:20260421T100212
END:VEVENT
END:VCALENDAR