BEGIN:VCALENDAR
VERSION:2.0
PRODID:gruene-northeim-einbeck.de
METHOD:PUBLISH
BEGIN:VTIMEZONE
TZID:Europe/Berlin
X-LIC-LOCATION:Europe/Berlin
BEGIN:DAYLIGHT
TZOFFSETFROM:+0100
TZOFFSETTO:+0200
TZNAME:CEST
DTSTART:19700329T020000
RRULE:FREQ=YEARLY;INTERVAL=1;BYDAY=-1SU;BYMONTH=3
END:DAYLIGHT
BEGIN:STANDARD
TZOFFSETFROM:+0200
TZOFFSETTO:+0100
TZNAME:CET
DTSTART:19701025T030000
RRULE:FREQ=YEARLY;INTERVAL=1;BYDAY=-1SU;BYMONTH=10
END:STANDARD
END:VTIMEZONE
BEGIN:VEVENT
UID:88921987dbdca890478b0456a1bd615c@gruene-northeim-einbeck.de
URL;VALUE=URI:https://gruene-northeim-einbeck.de/termine/treffen-der-grue
 nen-northeim-5/
LOCATION:Kreisgeschäftsstelle, Am Münster 27, 37154 Northeim
SUMMARY:Treffen der GRÜNEN Northeim
DESCRIPTION;ALTREP="data:text/html,%0A%3Cp%3EDie%20Mitglieder%20des%20Ort
 sverbandes%20Northeim%20treffen%20sich%20zum%20gemeinsamen%20Austausch%20
 %C3%BCber%20die%20aktuelle%20politische%20Lage%20und%20planen%20weitere%2
 C%20neue%20Aktionen%20des%20Ortsverbandes.%26nbsp%3B%3C%2Fp%3E%0A%0A%0A%0
 A%3Cp%3EDu%20hast%20Interesse%2C%20uns%20GR%C3%9CNEN%20beizutreten%2C%20b
 ist%20dir%20aber%20noch%20nicht%20ganz%20sicher%3F%20Schreib%20uns%20gern
 e%20an%20und%20lerne%20uns%20kennen.%20Wir%20freuen%20uns%20drauf%21%3C%2
 Fp%3E%0A":Die Mitglieder des Ortsverbandes Northeim treffen sich zum geme
 insamen Austausch über die aktuelle politische Lage und planen weitere\,
  neue Aktionen des Ortsverbandes. \n\nDu hast Interesse\, uns GRÜNEN be
 izutreten\, bist dir aber noch nicht ganz sicher? Schreib uns gerne an un
 d lerne uns kennen. Wir freuen uns drauf!
CLASS:PUBLIC
DTSTART;TZID=Europe/Berlin:20250203T180000
DTEND;TZID=Europe/Berlin:20250203T193000
DTSTAMP:20260422T093628
END:VEVENT
END:VCALENDAR