BEGIN:VCALENDAR
VERSION:2.0
PRODID:gruene-northeim-einbeck.de
METHOD:PUBLISH
BEGIN:VTIMEZONE
TZID:Europe/Berlin
X-LIC-LOCATION:Europe/Berlin
BEGIN:DAYLIGHT
TZOFFSETFROM:+0100
TZOFFSETTO:+0200
TZNAME:CEST
DTSTART:19700329T020000
RRULE:FREQ=YEARLY;INTERVAL=1;BYDAY=-1SU;BYMONTH=3
END:DAYLIGHT
BEGIN:STANDARD
TZOFFSETFROM:+0200
TZOFFSETTO:+0100
TZNAME:CET
DTSTART:19701025T030000
RRULE:FREQ=YEARLY;INTERVAL=1;BYDAY=-1SU;BYMONTH=10
END:STANDARD
END:VTIMEZONE
BEGIN:VEVENT
UID:42f208d7f88806524418a13b9c35d408@gruene-northeim-einbeck.de
URL;VALUE=URI:https://gruene-northeim-einbeck.de/termine/va-mit-kge-und-p
 rof-claudia-neu/
LOCATION:Kreisgeschäftsstelle, Am Münster 27, 37154 Northeim
SUMMARY:Dorf gegen Rechts – Demokratie vor Ort stark machen
DESCRIPTION;ALTREP="data:text/html,%0A%3Cp%3EVielerorts%20erstarken%20rec
 htsextreme%20Kr%C3%A4fte%2C%20und%20das%20Vertrauen%20in%20demokratische%
 20Grundprinzipien%20ger%C3%A4t%20zunehmend%20ins%20Wanken.%20Diese%20Entw
 icklung%20zeigt%20sich%20nicht%20zuletzt%20in%20den%20wachsenden%20Wahler
 folgen%20der%20AfD%20%E2%80%93%20nicht%20nur%20aber%20auch%20in%20l%C3%A4
 ndlichen%20Regionen.%20Gerade%20in%20l%C3%A4ndlichen%20R%C3%A4umen%20sehe
 n%20wir%2C%20dass%20demokratiefeindliche%20Tendenzen%20dort%20auf%20fruch
 tbaren%20Boden%20treffen%2C%20wo%20sich%20Menschen%20vom%20politischen%20
 und%20gesellschaftlichen%20Geschehen%20abgeh%C3%A4ngt%20f%C3%BChlen.%3C%2
 Fp%3E%0A%0A%0A%0A%3Cp%3EDie%20Ursachen%20hierf%C3%BCr%20sind%20vielf%C3%A
 4ltig%20%E2%80%93%20und%20h%C3%A4ufig%20tief%20in%20der%20Lebensrealit%C3
 %A4t%20der%20Menschen%20vor%20Ort%20verankert.%20L%C3%A4ndliche%20Regione
 n%20stehen%20vor%20besonderen%20Herausforderungen%3A%20demografischer%20W
 andel%2C%20anhaltende%20Abwanderung%20junger%20Menschen%2C%20mangelhafte%
 20Verkehrsanbindungen%20sowie%20unzureichende%20digitale%20und%20soziale%
 20Infrastruktur.%20Hinzu%20kommen%20%C3%BCberlastete%20kommunale%20Strukt
 uren%2C%20die%20den%20Alltag%20vieler%20B%C3%BCrgerinnen%20und%20B%C3%BCr
 ger%20erschweren.%20Kindertagesst%C3%A4tten%20k%C3%B6nnen%20keine%20verl%
 C3%A4ssliche%20Betreuung%20gew%C3%A4hrleisten%2C%20in%20vielen%20Schulen%
 20fehlen%20Lehrkr%C3%A4fte.%20Der%20Weg%20zur%20n%C3%A4chsten%20Kinder%C3
 %A4rztin%20oder%20zum%20Facharzt%20wird%20f%C3%BCr%20viele%20Familien%20z
 ur%20logistischen%20Herausforderung.%3C%2Fp%3E%0A%0A%0A%0A%3Cp%3EDoch%20e
 s%20sind%20nicht%20nur%20staatliche%20Strukturen%2C%20die%20unter%20Druck
 %20stehen.%20Auch%20im%20privaten%20Alltag%20sp%C3%BCren%20viele%20Mensch
 en%20eine%20zunehmende%20%C3%9Cberforderung.%20Die%20Vereinbarkeit%20von%
 20Familie%20und%20Beruf%20wird%20zur%20t%C3%A4glichen%20Belastungsprobe%2
 0%E2%80%93%20besonders%20f%C3%BCr%20Eltern%20ohne%20tragf%C3%A4hige%20Bet
 reuungsangebote.%20Gleichzeitig%20versch%C3%A4rfen%20steigende%20Lebensha
 ltungskosten%20und%20der%20anhaltende%20Mietdruck%20die%20soziale%20Lage%
 20und%20f%C3%BChren%20zu%20wachsendem%20Frust%20und%20Resignation.%3C%2Fp
 %3E%0A%0A%0A%0A%3Cp%3EIn%20diesem%20Spannungsfeld%20entsteht%20ein%20gef%
 C3%A4hrlicher%20N%C3%A4hrboden%20f%C3%BCr%20demokratiefeindliche%20Narrat
 ive.%20Umso%20dringlicher%20ist%20es%2C%20den%20Blick%20auf%20die%20l%C3%
 A4ndlichen%20R%C3%A4ume%20zu%20sch%C3%A4rfen%2C%20ihre%20Herausforderunge
 n%20ernst%20zu%20nehmen%20%E2%80%93%20und%20gezielt%20daran%20zu%20arbeit
 en%2C%20Vertrauen%20in%20demokratische%20Prozesse%20zur%C3%BCckzugewinnen
 .%3C%2Fp%3E%0A%0A%0A%0A%3Cp%3EWie%20dies%20gelingen%20kann%20wollen%20wir
 %20mit%20unseren%20beiden%20Podiumsteilnehmerinnen%20und%20mit%20euch%20d
 iskutieren.%26nbsp%3BMit%20dabei%20sind%20Katrin%20G%C3%B6ring-Eckardt%2C
 %20Bundestagsabgeordnete%20und%20ehemalige%20Vizepr%C3%A4sidentin%20des%2
 0Bundestags%20und%20Prof.%20Dr.%20Claudia%20Neu%2C%26nbsp%3BInhaberin%20d
 es%20Lehrstuhls%20%C2%BBSoziologie%20l%C3%A4ndlicher%20R%C3%A4ume%C2%AB%2
 6nbsp%3B%28Universit%C3%A4ten%20G%C3%B6ttingen%20und%20Kassel%29.%3C%2Fp%
 3E%0A%0A%0A%0A%3Cp%3EDa%20unsere%20Kreisgesch%C3%A4ftsstelle%20nur%20eine
 %20begrenzte%20Anzahl%20an%20Pl%C3%A4tzen%20hat%2C%20bitten%20wir%20Sie%2
 0um%20eine%20verbindliche%20Anmeldung%20bis%20zum%2028.%20September%20202
 5%2C%2012%3A00%20Uhr%2C%20per%20Mail%20an%20info%40gruene-northeim-einbec
 k.de.%20Bitte%20geben%20Sie%20dabei%20die%20Namen%20und%20die%20Personenz
 ahl%20an.%20Gerne%20k%C3%B6nnen%20Sie%20die%20Einladung%20auch%20an%20Int
 eressierte%20weiterleiten.%20Die%20Pl%C3%A4tze%20vergeben%20wir%20nach%20
 dem%20Windhundprinzip%2C%20also%20in%20der%20Reihenfolge%20der%20eingehen
 den%20Anmeldungen.%3C%2Fp%3E%0A":Vielerorts erstarken rechtsextreme Kräf
 te\, und das Vertrauen in demokratische Grundprinzipien gerät zunehmend 
 ins Wanken. Diese Entwicklung zeigt sich nicht zuletzt in den wachsenden 
 Wahlerfolgen der AfD – nicht nur aber auch in ländlichen Regionen. Ger
 ade in ländlichen Räumen sehen wir\, dass demokratiefeindliche Tendenze
 n dort auf fruchtbaren Boden treffen\, wo sich Menschen vom politischen u
 nd gesellschaftlichen Geschehen abgehängt fühlen.\n\nDie Ursachen hierf
 ür sind vielfältig – und häufig tief in der Lebensrealität der Mens
 chen vor Ort verankert. Ländliche Regionen stehen vor besonderen Herausf
 orderungen: demografischer Wandel\, anhaltende Abwanderung junger Mensche
 n\, mangelhafte Verkehrsanbindungen sowie unzureichende digitale und sozi
 ale Infrastruktur. Hinzu kommen überlastete kommunale Strukturen\, die d
 en Alltag vieler Bürgerinnen und Bürger erschweren. Kindertagesstätten
  können keine verlässliche Betreuung gewährleisten\, in vielen Schulen
  fehlen Lehrkräfte. Der Weg zur nächsten Kinderärztin oder zum Facharz
 t wird für viele Familien zur logistischen Herausforderung.\n\nDoch es s
 ind nicht nur staatliche Strukturen\, die unter Druck stehen. Auch im pri
 vaten Alltag spüren viele Menschen eine zunehmende Überforderung. Die V
 ereinbarkeit von Familie und Beruf wird zur täglichen Belastungsprobe 
 – besonders für Eltern ohne tragfähige Betreuungsangebote. Gleichzeit
 ig verschärfen steigende Lebenshaltungskosten und der anhaltende Mietdru
 ck die soziale Lage und führen zu wachsendem Frust und Resignation.\n\nI
 n diesem Spannungsfeld entsteht ein gefährlicher Nährboden für demokra
 tiefeindliche Narrative. Umso dringlicher ist es\, den Blick auf die län
 dlichen Räume zu schärfen\, ihre Herausforderungen ernst zu nehmen – 
 und gezielt daran zu arbeiten\, Vertrauen in demokratische Prozesse zurü
 ckzugewinnen.\n\nWie dies gelingen kann wollen wir mit unseren beiden Pod
 iumsteilnehmerinnen und mit euch diskutieren. Mit dabei sind Katrin Gör
 ing-Eckardt\, Bundestagsabgeordnete und ehemalige Vizepräsidentin des Bu
 ndestags und Prof. Dr. Claudia Neu\, Inhaberin des Lehrstuhls »Soziolog
 ie ländlicher Räume« (Universitäten Göttingen und Kassel).\n\nDa un
 sere Kreisgeschäftsstelle nur eine begrenzte Anzahl an Plätzen hat\, bi
 tten wir Sie um eine verbindliche Anmeldung bis zum 28. September 2025\, 
 12:00 Uhr\, per Mail an info@gruene-northeim-einbeck.de. Bitte geben Sie 
 dabei die Namen und die Personenzahl an. Gerne können Sie die Einladung 
 auch an Interessierte weiterleiten. Die Plätze vergeben wir nach dem Win
 dhundprinzip\, also in der Reihenfolge der eingehenden Anmeldungen.
CLASS:PUBLIC
DTSTART;TZID=Europe/Berlin:20251001T190000
DTEND;TZID=Europe/Berlin:20251001T203000
DTSTAMP:20260422T093436
END:VEVENT
END:VCALENDAR